BEGIN:VCALENDAR
VERSION:2.0
PRODID:-//North County Group – Sierra Club S.D. - ECPv5.4.0.2//NONSGML v1.0//EN
CALSCALE:GREGORIAN
METHOD:PUBLISH
X-WR-CALNAME:North County Group – Sierra Club S.D.
X-ORIGINAL-URL:https://sierraclubncg.org
X-WR-CALDESC:Events for North County Group – Sierra Club S.D.
BEGIN:VTIMEZONE
TZID:America/Los_Angeles
BEGIN:DAYLIGHT
TZOFFSETFROM:-0800
TZOFFSETTO:-0700
TZNAME:PDT
DTSTART:20200308T100000
END:DAYLIGHT
BEGIN:STANDARD
TZOFFSETFROM:-0700
TZOFFSETTO:-0800
TZNAME:PST
DTSTART:20201101T090000
END:STANDARD
END:VTIMEZONE
BEGIN:VEVENT
DTSTART;TZID=America/Los_Angeles:20200428T190000
DTEND;TZID=America/Los_Angeles:20200428T200000
DTSTAMP:20260421T042806
CREATED:20200417T213546Z
LAST-MODIFIED:20200417T213604Z
UID:3517-1588100400-1588104000@sierraclubncg.org
SUMMARY:ConsCom Monthly VIRTUAL meeting: Our Transportation Future April 28 7 PM
DESCRIPTION:NCG Conservation Committee Monthly VIRTUAL meeting \nOur Transportation Future: The Five Big Moves—Community Presentation \nWhether we are talking about the climate\, the economy\, public health\, or quality of life\, transportation has a key and critical role in our success or failures.  The Regional Transportation Plan is a blueprint for transportation and transit for our region and a significant overhaul is underway.  It is in everyone’s interest to learn more about this important initiative for our future. Planning staff from the San Diego Association of Governments (SANDAG) will present to basics of regional transportation\, the proposed 5 Big Moves for our transit future\, and we will have a discussion about how we might change how we work and travel after the virus quarantine is over \nTuesday\, April 28 2020 \n7:00 to 8:30 PM \nZOOM virtual gathering. You can join by computer\, tablet\, or phone. \nContact conservation@sierraclubncg.org  for login information.
URL:https://sierraclubncg.org/event/our-transportation-future/
LOCATION:ZOOM Video Call
END:VEVENT
END:VCALENDAR