BEGIN:VCALENDAR
VERSION:2.0
PRODID:-//North County Group – Sierra Club S.D. - ECPv5.4.0.2//NONSGML v1.0//EN
CALSCALE:GREGORIAN
METHOD:PUBLISH
X-WR-CALNAME:North County Group – Sierra Club S.D.
X-ORIGINAL-URL:https://sierraclubncg.org
X-WR-CALDESC:Events for North County Group – Sierra Club S.D.
BEGIN:VTIMEZONE
TZID:America/Los_Angeles
BEGIN:DAYLIGHT
TZOFFSETFROM:-0800
TZOFFSETTO:-0700
TZNAME:PDT
DTSTART:20190310T100000
END:DAYLIGHT
BEGIN:STANDARD
TZOFFSETFROM:-0700
TZOFFSETTO:-0800
TZNAME:PST
DTSTART:20191103T090000
END:STANDARD
END:VTIMEZONE
BEGIN:VEVENT
DTSTART;TZID=America/Los_Angeles:20190601T110000
DTEND;TZID=America/Los_Angeles:20190601T150000
DTSTAMP:20260423T125140
CREATED:20190502T001446Z
LAST-MODIFIED:20190502T035348Z
UID:3269-1559386800-1559401200@sierraclubncg.org
SUMMARY:Summer Picnic
DESCRIPTION:All North County Sierra Club Members\, Family\, Friends\, WBC Student Alumni and the Community are invited to join us for an afternoon of Food\, Fun and Games at Dixon Lake in Escondido. Lunch will be provided by the NCG. \nBring chairs\, sunscreen\, and your appetite!  Parking  fee $5.00 per car is charged at the gate (Seniors 60 & above – park FREE)\nFree Parking is also available in the dirt lot outside of the park\, approximately 1/2 mile from the picnic site. \nWe will be set up to the left of the Concessions Parking Lot down the hill (Look for the Sierra Club signs) \nThere is no alcohol or glass containers allowed at the lake/day use areas. \nPre-Picnic hikes will be posted on Outings Calendar at least 1 week prior to picnic.
URL:https://sierraclubncg.org/event/summer-picnic/
LOCATION:Dixon Lake\, 1700 La Honda Dr\, Escondido\, CA\, 92027
CATEGORIES:Event,Social
END:VEVENT
END:VCALENDAR