BEGIN:VCALENDAR
VERSION:2.0
PRODID:-//North County Group – Sierra Club S.D. - ECPv5.4.0.2//NONSGML v1.0//EN
CALSCALE:GREGORIAN
METHOD:PUBLISH
X-WR-CALNAME:North County Group – Sierra Club S.D.
X-ORIGINAL-URL:https://sierraclubncg.org
X-WR-CALDESC:Events for North County Group – Sierra Club S.D.
BEGIN:VTIMEZONE
TZID:America/Los_Angeles
BEGIN:DAYLIGHT
TZOFFSETFROM:-0800
TZOFFSETTO:-0700
TZNAME:PDT
DTSTART:20190310T100000
END:DAYLIGHT
BEGIN:STANDARD
TZOFFSETFROM:-0700
TZOFFSETTO:-0800
TZNAME:PST
DTSTART:20191103T090000
END:STANDARD
END:VTIMEZONE
BEGIN:VEVENT
DTSTART;TZID=America/Los_Angeles:20190908T110000
DTEND;TZID=America/Los_Angeles:20190908T160000
DTSTAMP:20260423T075744
CREATED:20190815T063317Z
LAST-MODIFIED:20190815T063317Z
UID:3372-1567940400-1567958400@sierraclubncg.org
SUMMARY:End of Summer 2019 Kayak Picnic
DESCRIPTION:Join North County Group for our 2nd Annual End of Summer Kayak Picnic \nSunday Sept 8\, 2019   11:00 am – 4:00 pm \nWe will snag a spot somewhere close to the entrance to SeaCamp. Many members will have their kayaks. You can also rent for the afternoon at many local shops. \nMain course lunch will be provided. Please bring a side\, dessert\, or appetizer to share. Bonus points for bringing your own reusable plates and utensils! \nShow up with your chairs\, umbrellas\, easy-ups\, suntan lotion\, hats\, sunglasses\, swimwear\, and any other beach/picnic gear you may want. Family and friends are all invited! \nThis is an alcohol-free beach.  Please follow all local and boating regulations.
URL:https://sierraclubncg.org/event/end-of-summer-2019-kayak-picnic/
LOCATION:Enchanted Cove – Mission Bay\, Fiesta Island Road\, San Diego\, CA\, 92109
CATEGORIES:Event,Front page,Social
ORGANIZER;CN="DJ%20Strong":MAILTO:events@sierraclubncg.org
END:VEVENT
END:VCALENDAR