BEGIN:VCALENDAR
VERSION:2.0
PRODID:-//North County Group – Sierra Club S.D. - ECPv5.4.0.2//NONSGML v1.0//EN
CALSCALE:GREGORIAN
METHOD:PUBLISH
X-WR-CALNAME:North County Group – Sierra Club S.D.
X-ORIGINAL-URL:https://sierraclubncg.org
X-WR-CALDESC:Events for North County Group – Sierra Club S.D.
BEGIN:VTIMEZONE
TZID:America/Los_Angeles
BEGIN:DAYLIGHT
TZOFFSETFROM:-0800
TZOFFSETTO:-0700
TZNAME:PDT
DTSTART:20190310T100000
END:DAYLIGHT
BEGIN:STANDARD
TZOFFSETFROM:-0700
TZOFFSETTO:-0800
TZNAME:PST
DTSTART:20191103T090000
END:STANDARD
END:VTIMEZONE
BEGIN:VEVENT
DTSTART;TZID=America/Los_Angeles:20190910T190000
DTEND;TZID=America/Los_Angeles:20190910T203000
DTSTAMP:20260423T074545
CREATED:20190815T062340Z
LAST-MODIFIED:20190815T062340Z
UID:3376-1568142000-1568147400@sierraclubncg.org
SUMMARY:September Social Planning Social
DESCRIPTION:Join us at a Social Event to help decide and plan Social Events. \nGrab good food and refreshments and join us to plan upcoming social events for North County Group! Hang out in the garden\, share your stories\, and suggest other fun things to do locally. \nWe meet the second Tuesday of each month at Stone Brewing in Escondido. Hope to see you there!
URL:https://sierraclubncg.org/event/september-social-planning-social/
LOCATION:Stone Brewing World Bistro & Gardens – Escondido\, 1999 Citracado Parkway\, Escondido\, CA\, 92029
CATEGORIES:Event,Front page,Social
ATTACH;FMTTYPE=image/jpeg:https://sierraclubncg.org/wp-content/uploads/2019/08/social-planning.jpg
ORGANIZER;CN="DJ%20Strong":MAILTO:events@sierraclubncg.org
END:VEVENT
END:VCALENDAR